BEGIN:VCALENDAR
PRODID:-//AT Content Types//AT Event//EN
VERSION:2.0
METHOD:PUBLISH
BEGIN:VEVENT
DTSTAMP:20260420T064108Z
CREATED:20170317T202709Z
UID:ATEvent-c21c362ff0864a13b4d34e26a268fa37
LAST-MODIFIED:20170406T124108Z
SUMMARY:The Changing Face of Rwandan Public Debt\, GDI
DTSTART:20161007T070000Z
DTEND:20161007T150000Z
DESCRIPTION:Presentation of the working paper on Rwandan public debt a
 t the Workshop "Rwanda: A developmental state and/or donor darling?" b
 y Dr. Dennis Essers (BeFinD\, IOB\, UAntwerpen).
LOCATION:German Development Institute\, Bonn
CLASS:PUBLIC
END:VEVENT
END:VCALENDAR
