BEGIN:VCALENDAR
PRODID:-//AT Content Types//AT Event//EN
VERSION:1.0
BEGIN:VEVENT
DTSTART:20170420T070000Z
DTEND:20170420T151500Z
DCREATED:20170328T081552Z
UID:ATEvent-33f9d5974ab443fcba9a5afb4ff9a2dd
SEQUENCE:0
LAST-MODIFIED:20170421T121117Z
SUMMARY:ACROPOLIS workshop
DESCRIPTION:The ACademic Research Organisations for POLIcy Support (Ac
 ropolis) for the Belgian Development Cooperation organise a joint work
 shop on "Tackling climate\, fragility & finance challenges for the 203
 0 Agenda for Sustainable Development".
LOCATION:Egmont Palace\, Brussels
PRIORITY:3
TRANSP:0
END:VEVENT
END:VCALENDAR
